BEGIN:VCALENDAR
VERSION:2.0
PRODID:-//Diablo Hills Golf Course - ECPv6.15.20//NONSGML v1.0//EN
CALSCALE:GREGORIAN
METHOD:PUBLISH
X-WR-CALNAME:Diablo Hills Golf Course
X-ORIGINAL-URL:https://www.diablohillsgolfcourse.com
X-WR-CALDESC:Events for Diablo Hills Golf Course
REFRESH-INTERVAL;VALUE=DURATION:PT1H
X-Robots-Tag:noindex
X-PUBLISHED-TTL:PT1H
BEGIN:VTIMEZONE
TZID:America/Toronto
BEGIN:DAYLIGHT
TZOFFSETFROM:-0500
TZOFFSETTO:-0400
TZNAME:EDT
DTSTART:20230312T070000
END:DAYLIGHT
BEGIN:STANDARD
TZOFFSETFROM:-0400
TZOFFSETTO:-0500
TZNAME:EST
DTSTART:20231105T060000
END:STANDARD
BEGIN:DAYLIGHT
TZOFFSETFROM:-0500
TZOFFSETTO:-0400
TZNAME:EDT
DTSTART:20240310T070000
END:DAYLIGHT
BEGIN:STANDARD
TZOFFSETFROM:-0400
TZOFFSETTO:-0500
TZNAME:EST
DTSTART:20241103T060000
END:STANDARD
BEGIN:DAYLIGHT
TZOFFSETFROM:-0500
TZOFFSETTO:-0400
TZNAME:EDT
DTSTART:20250309T070000
END:DAYLIGHT
BEGIN:STANDARD
TZOFFSETFROM:-0400
TZOFFSETTO:-0500
TZNAME:EST
DTSTART:20251102T060000
END:STANDARD
END:VTIMEZONE
BEGIN:VEVENT
DTSTART;TZID=America/Toronto:20241009T193000
DTEND;TZID=America/Toronto:20241009T210000
DTSTAMP:20260419T091656
CREATED:20241002T144813Z
LAST-MODIFIED:20241002T145307Z
UID:10000088-1728502200-1728507600@www.diablohillsgolfcourse.com
SUMMARY:Comedy Night October 9th
DESCRIPTION:  \n\n  \n \nWe’re serving up another round of laughs for you at The Greenery!\nJoin us on October 9th for Jon Lehre along with Co-Headliners Tony Camin and Laura Hayden to take the stage.\nFrom 7:30pm – 9:30pm we’re cracking jokes\, drinks\, and a few snacks to get the show going.\nDon’t miss out on this midweek pick me up!\n\n$20 Tickets will also be available at the door (Cash or Venmo)\nPurchase now!\nhttps://www.eventbrite.com/e/comedy-night-at-the-greenery-tickets-1030323404037?aff=affiliate1
URL:https://www.diablohillsgolfcourse.com/event/comedy-night-october-9th/
END:VEVENT
END:VCALENDAR