BEGIN:VCALENDAR
VERSION:2.0
PRODID:-//Diablo Hills Golf Course - ECPv6.15.20//NONSGML v1.0//EN
CALSCALE:GREGORIAN
METHOD:PUBLISH
X-WR-CALNAME:Diablo Hills Golf Course
X-ORIGINAL-URL:https://www.diablohillsgolfcourse.com
X-WR-CALDESC:Events for Diablo Hills Golf Course
REFRESH-INTERVAL;VALUE=DURATION:PT1H
X-Robots-Tag:noindex
X-PUBLISHED-TTL:PT1H
BEGIN:VTIMEZONE
TZID:America/Toronto
BEGIN:DAYLIGHT
TZOFFSETFROM:-0500
TZOFFSETTO:-0400
TZNAME:EDT
DTSTART:20240310T070000
END:DAYLIGHT
BEGIN:STANDARD
TZOFFSETFROM:-0400
TZOFFSETTO:-0500
TZNAME:EST
DTSTART:20241103T060000
END:STANDARD
BEGIN:DAYLIGHT
TZOFFSETFROM:-0500
TZOFFSETTO:-0400
TZNAME:EDT
DTSTART:20250309T070000
END:DAYLIGHT
BEGIN:STANDARD
TZOFFSETFROM:-0400
TZOFFSETTO:-0500
TZNAME:EST
DTSTART:20251102T060000
END:STANDARD
BEGIN:DAYLIGHT
TZOFFSETFROM:-0500
TZOFFSETTO:-0400
TZNAME:EDT
DTSTART:20260308T070000
END:DAYLIGHT
BEGIN:STANDARD
TZOFFSETFROM:-0400
TZOFFSETTO:-0500
TZNAME:EST
DTSTART:20261101T060000
END:STANDARD
END:VTIMEZONE
BEGIN:VEVENT
DTSTART;VALUE=DATE:20250615
DTEND;VALUE=DATE:20250616
DTSTAMP:20260419T192620
CREATED:20250606T142213Z
LAST-MODIFIED:20250606T142256Z
UID:10000244-1749945600-1750031999@www.diablohillsgolfcourse.com
SUMMARY:Father's Day Specials
DESCRIPTION:Treat Dad to a delicious meal this Father’s Day at Diablo Hills! What better gift for him than a day on our beautiful greens followed by an exquisite feast? Or\, skip the golf and head straight to a mouth-watering meal! From brunch to dinner\, we have all the dishes Dad could wish for.\n  \nTake a peek at our specials menu and book your reservation!\n(925) 939-7372\n  \nBrunch: \nSalmon Benedict Bernaise\nLunch: \nBBQ Trip Tip Sandwich\nTrip Tip Caesar Salad\nDinner: \nNew York Strip Steak with Tempura Prawns
URL:https://www.diablohillsgolfcourse.com/event/fathers-day-specials/
END:VEVENT
END:VCALENDAR