BEGIN:VCALENDAR
VERSION:2.0
PRODID:-//Diablo Hills Golf Course - ECPv6.15.20//NONSGML v1.0//EN
CALSCALE:GREGORIAN
METHOD:PUBLISH
X-ORIGINAL-URL:https://www.diablohillsgolfcourse.com
X-WR-CALDESC:Events for Diablo Hills Golf Course
REFRESH-INTERVAL;VALUE=DURATION:PT1H
X-Robots-Tag:noindex
X-PUBLISHED-TTL:PT1H
BEGIN:VTIMEZONE
TZID:America/Toronto
BEGIN:DAYLIGHT
TZOFFSETFROM:-0500
TZOFFSETTO:-0400
TZNAME:EDT
DTSTART:20240310T070000
END:DAYLIGHT
BEGIN:STANDARD
TZOFFSETFROM:-0400
TZOFFSETTO:-0500
TZNAME:EST
DTSTART:20241103T060000
END:STANDARD
BEGIN:DAYLIGHT
TZOFFSETFROM:-0500
TZOFFSETTO:-0400
TZNAME:EDT
DTSTART:20250309T070000
END:DAYLIGHT
BEGIN:STANDARD
TZOFFSETFROM:-0400
TZOFFSETTO:-0500
TZNAME:EST
DTSTART:20251102T060000
END:STANDARD
BEGIN:DAYLIGHT
TZOFFSETFROM:-0500
TZOFFSETTO:-0400
TZNAME:EDT
DTSTART:20260308T070000
END:DAYLIGHT
BEGIN:STANDARD
TZOFFSETFROM:-0400
TZOFFSETTO:-0500
TZNAME:EST
DTSTART:20261101T060000
END:STANDARD
END:VTIMEZONE
BEGIN:VEVENT
DTSTART;TZID=America/Toronto:20250408T180000
DTEND;TZID=America/Toronto:20250408T200000
DTSTAMP:20260419T150943
CREATED:20250313T165916Z
LAST-MODIFIED:20250313T165922Z
UID:10000238-1744135200-1744142400@www.diablohillsgolfcourse.com
SUMMARY:Singo
DESCRIPTION:Singo is BACK and better than ever!\n\nYou’ll be able to join us every other Tuesday night from 6pm-8pm for a fun way to liven up your week.\n\nWhat is singo you ask?\nSingo is bingo with a beat!\nInstead of calling out numbers\, we play 35 seconds of your favorite songs and you have to mark them off on your Singo card. The genre of songs can change from week to week\, such as classic rock\, country\, hip hop\, etc…or it can be just a mix. Mark 5 in a row for a Singo and win a prize!\n\nIt’s called Singo because we all know you will be singing along.\n\nWarm up your vocal cords and grab your markers\, it’ll be a night to sing to!
URL:https://www.diablohillsgolfcourse.com/event/singo-2/2025-04-08/
END:VEVENT
BEGIN:VEVENT
DTSTART;TZID=America/Toronto:20250409T193000
DTEND;TZID=America/Toronto:20250409T210000
DTSTAMP:20260419T150943
CREATED:20250402T135148Z
LAST-MODIFIED:20250402T135233Z
UID:10000243-1744227000-1744232400@www.diablohillsgolfcourse.com
SUMMARY:Comedy Night
DESCRIPTION:Another round of laughs at The Greenery is coming up! This time we have a special treat.\nJoining us at The Greenery will be Maureen Langan! As a semifinalist on season 18 of America’s Got Talent\, Maureen’s broad experience in live performing is sure to put a smile on your face.\n\nDave Burleigh\, Bill Schott\, and Bill Heil will also be taking on the stage to make sure you get an unforgettable show. As always\, our incredible drink specials and delectable bites will be packing a punch with the punchlines. Don’t forget to get yours before the show!\n\nMake your midweek a night to look forward to.\n\nPurchase your tickets now! Eventbrite Comedy at the Greenery
URL:https://www.diablohillsgolfcourse.com/event/comedy-night-7/
END:VEVENT
BEGIN:VEVENT
DTSTART;TZID=America/Toronto:20250422T180000
DTEND;TZID=America/Toronto:20250422T200000
DTSTAMP:20260419T150943
CREATED:20250313T165916Z
LAST-MODIFIED:20250313T165922Z
UID:10000239-1745344800-1745352000@www.diablohillsgolfcourse.com
SUMMARY:Singo
DESCRIPTION:Singo is BACK and better than ever!\n\nYou’ll be able to join us every other Tuesday night from 6pm-8pm for a fun way to liven up your week.\n\nWhat is singo you ask?\nSingo is bingo with a beat!\nInstead of calling out numbers\, we play 35 seconds of your favorite songs and you have to mark them off on your Singo card. The genre of songs can change from week to week\, such as classic rock\, country\, hip hop\, etc…or it can be just a mix. Mark 5 in a row for a Singo and win a prize!\n\nIt’s called Singo because we all know you will be singing along.\n\nWarm up your vocal cords and grab your markers\, it’ll be a night to sing to!
URL:https://www.diablohillsgolfcourse.com/event/singo-2/2025-04-22/
END:VEVENT
END:VCALENDAR